BEGIN:VCALENDAR
VERSION:2.0
PRODID:-//Exclusively Yours Magazine - ECPv6.15.20//NONSGML v1.0//EN
CALSCALE:GREGORIAN
METHOD:PUBLISH
X-ORIGINAL-URL:https://eymag.com
X-WR-CALDESC:Events for Exclusively Yours Magazine
REFRESH-INTERVAL;VALUE=DURATION:PT1H
X-Robots-Tag:noindex
X-PUBLISHED-TTL:PT1H
BEGIN:VTIMEZONE
TZID:America/Chicago
BEGIN:DAYLIGHT
TZOFFSETFROM:-0600
TZOFFSETTO:-0500
TZNAME:CDT
DTSTART:20250309T080000
END:DAYLIGHT
BEGIN:STANDARD
TZOFFSETFROM:-0500
TZOFFSETTO:-0600
TZNAME:CST
DTSTART:20251102T070000
END:STANDARD
BEGIN:DAYLIGHT
TZOFFSETFROM:-0600
TZOFFSETTO:-0500
TZNAME:CDT
DTSTART:20260308T080000
END:DAYLIGHT
BEGIN:STANDARD
TZOFFSETFROM:-0500
TZOFFSETTO:-0600
TZNAME:CST
DTSTART:20261101T070000
END:STANDARD
BEGIN:DAYLIGHT
TZOFFSETFROM:-0600
TZOFFSETTO:-0500
TZNAME:CDT
DTSTART:20270314T080000
END:DAYLIGHT
BEGIN:STANDARD
TZOFFSETFROM:-0500
TZOFFSETTO:-0600
TZNAME:CST
DTSTART:20271107T070000
END:STANDARD
END:VTIMEZONE
BEGIN:VEVENT
DTSTART;TZID=America/Chicago:20260405T120000
DTEND;TZID=America/Chicago:20260405T140000
DTSTAMP:20260419T094118
CREATED:20260330T225206Z
LAST-MODIFIED:20260330T225206Z
UID:12487-1775390400-1775397600@eymag.com
SUMMARY:Annual Easter Egg Hunt East Troy and Helicopter Jump
DESCRIPTION:Annual Easter Egg Hunt East Troy and Helicopter Jump\nEach Easter Skydive Milwaukee and the Sky Knights host an Easter Bunny jump and  Easter egg hunt for the children of East Troy.\n\nJoin in for an egg-citing Easter celebration like no other! Watch as the Skydive Milwaukee Easter Bunny makes a thrilling HELICOPTER jump from the sky before kicking off an unforgettable Easter Egg Hunt for the kids of East Troy!\n\nWhat’s in store for the Annual Easter Egg Hunt East Troy and Helicopter Jump?\n\nA backyard filled with candy-packed eggs\, PLUS a special area just for parents and toddlers!\nSnap a keepsake photo with the Easter Bunny before the hunt begins!\nEnjoy refreshments while soaking in the festive atmosphere!\n\n\nAnnual Easter Egg Hunt East Troy and Helicopter Jump Event Schedule:\n\nNoon – Photo fun with the Easter Bunny!\n1:00 PM – Watch the Bunny skydive in and start the hunt!\n\n\nGive Back While You Celebrate!The Sky Knights will be donating to the East Troy Food Pantry and collecting canned goods & monetary donations throughout the day. Let’s spread the Easter joy together!\n\n Don’t miss this one-of-a-kind Easter adventure. Bring the whole family and make magical memories! \n\n\n  \nFind more Easter Egg Hunts and Easter Brunches!
URL:https://eymag.com/event/annual-easter-egg-hunt-east-troy-and-helicopter-jump/
LOCATION:Skydive Milwaukee\, W1341 Country Road L\, East Troy
CATEGORIES:Community Event,East Troy,Easter Egg Hunt,Family,Free,Fun,Kids,Things To Do,WI
ATTACH;FMTTYPE=image/webp:https://eymag.com/wp-content/uploads/2026/03/easter-egg-hunt-Lwr7Fw.webp
END:VEVENT
BEGIN:VEVENT
DTSTART;TZID=America/Chicago:20260404T120000
DTEND;TZID=America/Chicago:20260404T120000
DTSTAMP:20260419T094118
CREATED:20260330T225205Z
LAST-MODIFIED:20260330T225205Z
UID:12483-1775304000-1775304000@eymag.com
SUMMARY:Dousman-Ottawa Lions Club Easter Egg Hunt
DESCRIPTION:Bring the kids for a Dousman Easter Egg Hunt and free refreshments\, starting at noon – arrive at 15-20 minutes early for the best experience! Kids in preschool through 5th grade are invited for the Dousman Ottowa Lions Club Easter Egg hunt! Hunt starts at noon -promptly. Meet the Easter Bunny at the Dousman-Ottawa Lions Annual Easter Egg Hunt\, too! \nHunt for Easter Eggs at Cory Park Pavilion\, Dousman. \nAges Pre-school to 5th Grade\nHorn goes off at 12 noon \nFind more Easter Egg Hunts and Easter Brunches! \n 
URL:https://eymag.com/event/dousman-ottawa-lions-club-easter-egg-hunt/
LOCATION:Dousman/Ottawa Lions Club\, 235 Main Street\, Dousman\, WI\, 53118\, United States
CATEGORIES:Community Event,Dousman,Easter Egg Hunt,Family,Free,Fun,Kids,Mom and Dad,Things To Do,Waukesha County,WI
ATTACH;FMTTYPE=image/webp:https://eymag.com/wp-content/uploads/2026/03/easter-egg-hunt-Lwr7Fw.webp
END:VEVENT
BEGIN:VEVENT
DTSTART;TZID=America/Chicago:20260404T110000
DTEND;TZID=America/Chicago:20260404T123000
DTSTAMP:20260419T094118
CREATED:20260330T225205Z
LAST-MODIFIED:20260330T225205Z
UID:12481-1775300400-1775305800@eymag.com
SUMMARY:Muskego Easter Egg Hunt
DESCRIPTION:The Muskego Lions Club will have a 2026 Muskego Easter Egg Hunt at Veteran’s Memorial Park by Muskego City Hall on Saturday\, April 4. The event runs from 11:00 am until 12:30 pm with the candy hunt at NOON sharp. DO NOT BE LATE. Egg hunts usually last about 5 minutes. The age range is 0 – 10 years old. \nHop on over to Veteran’s Memorial Park (located by the Muskego Police Department) for the annual FREE event!\nA nominal fee will be charged for lunch: $5 hot dog\, $6 brat\, includes chips and a beverage.  Raffles $1 each or 7 for $5. AGAIN CANDY HUNT AT NOON SHARP! \nSaturday\, April 4  11am – 12:30\nVeteran’s Memorial Park W182 S8175 Racine Avenue Muskego \nThe Easter Bunny will be available for photos!  Make sure you bring your camera. \nThe Muskego Lions Club will be selling hot dogs and brats starting at 11:00.  They hope to see you there! \n  \nMuskego Lions Club organizes the annual Easter Egg Hunt the Saturday before Easter. \nHeld in Muskego’s Veteran’s Memorial Park at noon\, families can enjoy an Easter egg hunt and visit with the Easter bunny. \n  \nRelated: \nFind more Easter Egg Hunts and Easter Brunches!
URL:https://eymag.com/event/muskego-easter-egg-hunt/
LOCATION:Muskego Veterans Memorial Park\, W182S8200 Racine Ave\, Muskego\, WI\, 53150\, United States
CATEGORIES:Community Event,Easter Egg Hunt,Event,Family,Free,Fun,Holiday,Kids,Mom and Dad,Muskego,School Age,Things To Do,Waukesha County,WI
END:VEVENT
BEGIN:VEVENT
DTSTART;TZID=America/Chicago:20260404T100000
DTEND;TZID=America/Chicago:20260404T110000
DTSTAMP:20260419T094118
CREATED:20260330T225204Z
LAST-MODIFIED:20260330T225204Z
UID:12478-1775296800-1775300400@eymag.com
SUMMARY:Palmyra Annual Easter Egg Hunt
DESCRIPTION:The Palmyra Annual Easter Egg Hunt is on for 2026! The event and fun will be at Village Park. Everyone please show up 20-30 minutes early. The Lions Club is doing things a little different this year and need to explain the new procedures. \nThe age groups are:1&2 years old3&4 years old5&6 years old and7&8 years old \nAbout the Palmyra Lions Club: \n\nThe Palmyra Lions Club is a Non Profit Organization the helps support people in need in the Village of Palmyra\, WI. We also support sight and hearing programs through Lions International. \n\nRelated: \nFind more Easter Egg Hunts and Easter Brunches!
URL:https://eymag.com/event/palmyra-annual-easter-egg-hunt/
LOCATION:Palmyra Village Park\, 955 S 8th St\, Palmyra\, WI\, 53156\, United States
CATEGORIES:Children,Easter Egg Hunt,Event,Family,Free,Fun,Kids,Mom and Dad,Palmyra,Things To Do,WI
ATTACH;FMTTYPE=image/webp:https://eymag.com/wp-content/uploads/2026/03/easter-egg-hunt-Lwr7Fw.webp
END:VEVENT
BEGIN:VEVENT
DTSTART;TZID=America/Chicago:20260404T100000
DTEND;TZID=America/Chicago:20260404T110000
DTSTAMP:20260419T094118
CREATED:20260330T225204Z
LAST-MODIFIED:20260330T225204Z
UID:12480-1775296800-1775300400@eymag.com
SUMMARY:Ixonia Easter Egg Hunt
DESCRIPTION:The Town of Ixonia Park & Rec Easter Egg Hunt will be held on Saturday\, April 4th at Ixonia Elementary School. Children can participate in craft activities beginning at 10:00 am with the Easter Egg Hunt being held at 11:00 am. See you there! \nIxonia Easter Egg Hunt Details:\nJoin in on Saturday\, April 4th at Ixonia Elementary School for the Town of Ixonia Park and Rec Annual Egg Hunt! \n10AM: Crafts and Activities\, Face Painting\, Meet the Bunny – Bring your camera 🐰 INSIDE the School Cafeteria \n11AM: Egg Hunt for ages 0-12 – Keep your eyes peeled for the magic Golden Eggs hidden throughout the hunt! \n  \nGoes by age and will also have crafts\, the Easter Bunny and face painting available! \nBe early!! \n  \nFind more Easter Related Fun and Easter Egg Hunts.
URL:https://eymag.com/event/ixonia-easter-egg-hunt/
LOCATION:Ixonia Firemans Park\, N8345 Park St\, Ixonia\, WI\, 53036\, United States
CATEGORIES:Children,Community Event,Easter,Easter Egg Hunt,Event,Family,Free,Fun,Ixonia,Kids,Mom and Dad,Things To Do,Waukesha County,WI
ATTACH;FMTTYPE=image/webp:https://eymag.com/wp-content/uploads/2026/03/easter-egg-hunt-Lwr7Fw.webp
END:VEVENT
BEGIN:VEVENT
DTSTART;TZID=America/Chicago:20260404T093000
DTEND;TZID=America/Chicago:20260404T150000
DTSTAMP:20260419T094118
CREATED:20260330T225203Z
LAST-MODIFIED:20260330T225203Z
UID:12476-1775295000-1775314800@eymag.com
SUMMARY:Egg Day at the Milwaukee County Zoo
DESCRIPTION:Eggs-perience a fun-filled “pre-Easter” celebration at the Milwaukee County Zoo on Saturday\, April 4\, as Egg Day sponsored by Racine Danish Kringles makes an eggs-citing return for another year! From 9:30 a.m. to 3 p.m.\, enjoy Easter-themed activities — all included with Zoo admission unless otherwise noted. Kids age 8 and under can join in the festivities listed below. \nRegistration is not required\, and Zoo Pass membership is valid for this event \nEgg Day Activities “spring” into action at 9:30 am.:\n\nBUNNY EARS – Main Entrance: Grab your own set of bunny ears and look just like our furry friend!\nRAZZMATAZZ – U.S. Bank Gathering Place: Get into the spring spirit with Dixie-land jazz from this popular group.\nEGG DAY SPRING BINGO – Penguins of the Pacific: Pick up a bingo card and mark spaces as you see items around the Zoo. Once you have a bingo\, return your card by 3 p.m. to receive a prize! (Bingo cards will be handed out until 2 p.m.)\nEGG HUNT – Caribou to Elk: Count the animal print eggs hidden along the trail and receive a special treat!\nFACE PAINTING – Conservation Outpost: Receive a bunny nose and whiskers to complete your look!\nCHALK THE ZOO – Elephant Care Center: Spring has sprung for the elephants! Add your flower to the garden path.\nBUNNY EGGXPRESS: Hop aboard the North Shore Bank Safari Train and search for the carrots the Bunny left behind.\nFee: $5/person plus sales tax – weather permitting\nBUNNY PARADE: You won’t want to miss the parade\, featuring the Bunny himself! Stop along the parade route during one of its three expeditions at 10:30 a.m.\, Noon\, and 1:30 p.m. (Parade route starts and ends at Macaque Island.)\nPHOTO “HOPORTUNITIES”: Be sure to share your special day for all to see by taking a photo at our three special Photo HOPortunities. Locations: Back of the U.S. Bank Gathering Place\, across from the Aquatic & Reptile Center\, and near Landmark Landing.\nANIMAL ENRICHMENT DEMONSTRATIONS\n\n10 a.m. – Pigs (Northwestern Mutual Family Farm)\n11 a.m. – Big Cats\n11:30 a.m. – Harbor Seals\nNoon – Otters\n1 p.m. – Elephants\n\n\n\n  \nFor Zoo admission fees\, visit the Zoo’s website at www.milwaukeezoo.org. Zoological Society membership is valid for Egg Day. \nRegular admission and parking fees apply. Zoo Pass is valid. \n9:30 am to 3:00 pm \n \n  \nFind more Easter Egg Hunts and Easter Brunches!
URL:https://eymag.com/event/egg-day-at-the-milwaukee-county-zoo/
LOCATION:Milwaukee County Zoo\, 10001 W Bluemound Rd\, Milwaukee\, WI\, 53226
CATEGORIES:Children,Easter,Event,Family,Fun,Kids,Milwaukee,Milwaukee County,Things To Do,WI
ATTACH;FMTTYPE=image/jpeg:https://eymag.com/wp-content/uploads/2026/03/Milwaukee-County-Zoo-Egg-Day-2023-yWQbHE.jpg
END:VEVENT
BEGIN:VEVENT
DTSTART;TZID=America/Chicago:20260404T090000
DTEND;TZID=America/Chicago:20260404T150000
DTSTAMP:20260419T094118
CREATED:20260330T225201Z
LAST-MODIFIED:20260330T225201Z
UID:12474-1775293200-1775314800@eymag.com
SUMMARY:East Troy Bunny Train
DESCRIPTION:The Bunny Train is a featured listing from the East Troy Electric Railroad.\nTickets on Sale for the 2026 East Troy Bunny Train! \nJoin in for Family Fun aboard the East Troy Bunny Train!\n\nThe East Troy Bunny Train returns: \n\n​Saturday\, March 28\nSunday\, March 29\nGood Friday\, April 3\nSaturday\, April 4\n\nOffering a festive ride for the whole family!\nTickets go on sale\, Monday\, March 2\, 2026! \n\nThe total experience is two hours in duration\, of 30 minutes on the train to the Elegant Farmer\, 1 hour at the Bunny Hutch at The Elegant Farmer\, and a 30 minute train ride back to the East Troy Depot \n\n— \nJoin us for family fun aboard the East Troy Bunny Train! Board one of our historic trains and take a ride down to the Elegant Farmer. Once on board there will be a scavenger hunt out your windows. At the Elegant Farmer everyone will have the opportunity to meet the Easter Bunny and pose for pictures! On the return trip\, all child & toddler ticket holders will receive a gift! \nFind more details on the website. \nThese are reserved seats so if Grandma and Grandpa or any else is joining you\, please place one order for your entire party. If you have any questions: please feel free to reach out to Marge in our office (office@easttroyrr.org). \nPLEASE NOTE: If you are a member\, to access the discounted member pricing\, you will be asked to add your member number to your ticket order. Your member number is listed on your membership card. \nAt the Elegant Farmer everyone will have the opportunity to meet the Easter Bunny and pose for pictures! There will also be coloring and kids’ activities at the Elegant Farmer. \nOn the return trip\, all child & toddler ticket holders will receive a gift! \nBoard at our East Troy Depot – advance reservations are required. \n\nEast Troy Bunny Train Tickets\nBoard at the East Troy Depot – advance reservations are required. Tickets will sell out.\n\n\nAdults (Ages 15+) $26.00 / $31.00\nChildren (Ages 3-14) $21.00 / $26.00\nInfants / Toddlers (Ages 0-2) $12.00\n\n\nThe historic railroad cars are heated and rest rooms are available at the East Troy depot. No restrooms available on the train. \n\nThe East Troy Railroad Museum operates 14-mile round trip train rides from its historic East Troy depot and museum to Indianhead Park in Mukwonago\, with a stop at the popular Elegant Farmer store and deli. They are celebrating more than 110 years of riding the rails through Southeast Wisconsin’s Kettle Moraine countryside. Their not-for-profit museum is operated\, maintained and managed by over 130 volunteers committed to preservation rail history in Wisconsin and America. \nTo preview the Bunny Train\, watch their YouTube video. \nThe volunteers appreciate your interest and support! \nFor more information\, visit their website or call 262.642.3263. \nDisclaimer: East Troy Railroad Museum is a sponsor of Lake Country Family Fun.  \n  \n  \nRelated Posts: \nFind more train related activities and fun in the area. \nFind more Easter Egg hunts and brunches.
URL:https://eymag.com/event/east-troy-bunny-train-2/
LOCATION:East Troy Electric Railroad\, 2002 Church Street\, East Troy\, WI\, 53120\, United States
CATEGORIES:East Troy,Easter,Event,Fun,Kids,Mukwonago,Things To Do,Waukesha County,WI
ATTACH;FMTTYPE=image/jpeg:https://eymag.com/wp-content/uploads/2026/03/unnamed-28-ldFMto.jpg
END:VEVENT
BEGIN:VEVENT
DTSTART;TZID=America/Chicago:20260404T084500
DTEND;TZID=America/Chicago:20260404T084500
DTSTAMP:20260419T094118
CREATED:20260330T225201Z
LAST-MODIFIED:20260330T225201Z
UID:12472-1775292300-1775292300@eymag.com
SUMMARY:Lake Country DockHounds Easter Egg Hunt
DESCRIPTION:Lake Country DockHounds Easter Egg Hunt is coming up! \nJoin Silver Circle Sports Events and the Lake Country DockHounds for the 4th Annual DockHounds Dash! This one-of-a-kind race lets you experience WBC Park like never before\, with a course that starts and finishes at home plate—a dream come true for runners and baseball fans alike! \nLake Country DockHounds Easter Egg Hunt Event Highlights:\n✔ Home Plate Finish: Feel the excitement as you cross the finish line at home plate in WBC Park! ⚾🏁\n✔ FREE DockHounds Game Ticket: All adult registrations include a FREE DockHounds game ticket! 🎟️\n✔ Exclusive Swag: Celebrate your race with custom event gear and a DockHounds-themed finisher Woodle!\n✔ Family-Friendly Fun: Bring the whole family—there’s something for everyone! \n📧 Game Ticket Redemption: After the event\, you’ll receive an email from the DockHounds with instructions on how to claim your free ticket. \nDon’t miss out on this unique chance to combine your love of running with a day at the ballpark! Sign up\, lace up\, and let’s dash to home plate together! \n  \n\nWhat’s the Golden Ticket? \nHidden inside four lucky eggs will be a Golden Ticket just waiting to be discovered. \n🎟️ If your child finds one\, they’ll receive: \n\nA special shoutout over the PA system from the pitcher’s mound\nA prize basket filled with awesome goodies\nA Silver Circle Sports Gift Certificate\nAnd of course… ultimate bragging rights!\n\nKeep your eyes peeled and your bunny ears up; these golden eggs could be anywhere!\nMay the odds be ever in your bunny’s favor. \nEveryone gets a finisher woodle from Ridgeway Woodworks. These custom woodles are made from recycled wood\, and crafted in Oconomowoc. \n  \n\nNew for 2026: The Adult Golden Ticket! \nYep\, you read that right: this year\, it’s not just for the kids. \nThey are hiding four more Golden Tickets in eggs just for adults.\nFind one\, and you’ll unlock some seriously fun surprises of your own. \nBecause hey\, grown-ups deserve a little egg hunt glory too! 🥚🎉 \nSo keep your eyes peeled\, search high and low\, and may the odds be ever in your bunny’s favor! \n  \n\nRelated: \nFind more Easter Egg Fun Easter Egg Fun + Easter Brunches.
URL:https://eymag.com/event/lake-country-dockhounds-easter-egg-hunt/
LOCATION:Wisconsin Brewing Company Park\, 1011 Blue Ribbon Circle N.\, Oconomowoc\, 53066
CATEGORIES:Easter Egg Hunt,Event,Family,Fun,Kids,Things To Do,Waukesha County,WI
ATTACH;FMTTYPE=image/jpeg:https://eymag.com/wp-content/uploads/2026/02/PXL_20250620_233121648-1-528ruK.jpg
END:VEVENT
BEGIN:VEVENT
DTSTART;TZID=America/Chicago:20260403T100000
DTEND;TZID=America/Chicago:20260403T120000
DTSTAMP:20260419T094118
CREATED:20260330T225155Z
LAST-MODIFIED:20260330T225155Z
UID:12465-1775210400-1775217600@eymag.com
SUMMARY:Bunny Bash at The Corners of Brookfield
DESCRIPTION:Bring your family to the Bunny Bash at The Corners of Brookfield! THIS EVENT SOLD OUT IN 2025 – so sign up NOW if you are interested! \nThe Corners of Brookfield is partnering with Fairytale Birthday Company & Milwaukee IMPROV\, on Friday\, April 3rd for an egg-citing event perfect for children and families!\nSnap your own photos\, enjoy crafts\, face painting\, sweet treats and more.\n\nHop on over to meet the Easter Bunny! The Easter Bunny will be located on the main stage at the IMPROV located at The Corners of Brookfield.\nPark in the parking structure and enter through the IMPROV main doors\nCelebrate spring with an egg-cellent family friendly event. \nThis event is free but advance registration is encouraged. \nHours:\nFriday\, April 3rd\n10AM – 12PM\n\nAdditional Bunny Bash Details:\nThis is a free event\, however\, please register in advance. Feel free to take your own photos of your family with the Easter Bunny. Along with photos with the bunny\, the experience will include Easter crafts\, sweet treats\, face painting and more!\nTickets:\nOnly 1 (one) ticket is needed per family\n\n\n\nRelated: \nFind more Easter Related Fun and Easter Egg Hunts.
URL:https://eymag.com/event/bunny-bash-at-the-corners-of-brookfield/
LOCATION:The Corners of Brookfield\, 20111 W. Bluemound Road\, Brookfield\, WI\, 53045
CATEGORIES:Brookfield,Business Event,Children,Easter,Easter Egg Hunt,Event,Family,Free,Fun,Kids,Mom and Dad,Things To Do,Waukesha County,WI
ATTACH;FMTTYPE=image/jpeg:https://eymag.com/wp-content/uploads/2026/03/Ashley-Corners-of-Brookfield-Easter-Bunny-MKE-Improv-scaled-gKBjvU.jpg
END:VEVENT
BEGIN:VEVENT
DTSTART;TZID=America/Chicago:20260403T100000
DTEND;TZID=America/Chicago:20260403T103000
DTSTAMP:20260419T094118
CREATED:20260330T225159Z
LAST-MODIFIED:20260330T225159Z
UID:12468-1775210400-1775212200@eymag.com
SUMMARY:Eagle Easter Egg Hunt
DESCRIPTION:There will be an Eagle Easter Egg Hunt event on Good Friday\, April 3\, 2026 at 10:00 am at Village Park.\nThe actual hunt will be at 10:30 sharp\, so arrive early!\n\n\n\n\n\n\n\n\n\n\n\n\n\n\nThe Eagle Easter Egg Hunt will go back to the regular format this year with kids searching for eggs\, segregated by age.\nThere will also be a 50/50 raffle and gift basket raffle benefitting the Eagle Advancement Association.\nNEW – a petting zoo!\nThe mission of the Eagle Advancement Association is “engaging\, strengthening all members of the community through innovation\, events and projects to enrich and help the community as a whole.”\nTo learn more about the Eagle Advancement Association visit https://advancingeagle.org.\n\n\n\n\n\n\n\n\n\n\n\n\n\n\n\n\nHop on over for some fun!\n\nMore details here: https://www.facebook.com/EagleEggHunt\n\n\n\n\n\n\n\n  \n  \nFind more Easter Related Fun and Easter Egg Hunts. \n 
URL:https://eymag.com/event/eagle-easter-egg-hunt/
LOCATION:Eagle Town Park\, HWY NN\, Eagle\, WI\, 53119\, United States
CATEGORIES:Children,Community Event,Eagle,Easter Egg Hunt,Event,Family,Free,Fun,Kids,Mom and Dad,Things To Do,Waukesha County,WI
ATTACH;FMTTYPE=image/webp:https://eymag.com/wp-content/uploads/2026/03/easter-egg-hunt-Lwr7Fw.webp
END:VEVENT
BEGIN:VEVENT
DTSTART;TZID=America/Chicago:20260331T070000
DTEND;TZID=America/Chicago:20260331T144500
DTSTAMP:20260419T094118
CREATED:20260330T225153Z
LAST-MODIFIED:20260330T225153Z
UID:12461-1774940400-1774968300@eymag.com
SUMMARY:St. Joan of Arc School Shadow Day Open House
DESCRIPTION:Bring your family to the St. Joan of Arc School Shadow Day Open House. \nHeld at the St Joan of Arc Education Center in Nashotah. \n\nChoosing the right school is one of the most important decisions you’ll make for your child. Come experience it for yourself at St. Joan of Arc Shadow Days. They are offering opportunities for both elementary and middle school students to step into a real school day: meeting teachers\, making connections\, and experiencing what makes the school community special.\n\nElementary Shadow Days: March 30 & 31\nMiddle School Shadow Day: March 30\n7:45 AM – 2:45 PM\n\n\n\nYour child will:\n• Meet teachers & students\n• Participate in real lessons\n• Explore our campus\n\n\nAt St. Joan of Arc\, your child is known and loved and this is the best way to see that in action.\n—\n\nTo learn more about preschools in the greater Waukesha County and Lake Country area\, please read LAKE COUNTRY FAMILY FUN’S LOCAL PRESCHOOL GUIDE. \n  \nTo learn more about other preschool open houses in the area\, please read LAKE COUNTRY FAMILY FUN’S PRESCHOOL OPEN HOUSE GUIDE. \n 
URL:https://eymag.com/event/st-joan-of-arc-school-shadow-day-open-house-2/
LOCATION:St. Joan of Arc School\, 120 Nashotah Road\, Nashotah\, WI\, United States
CATEGORIES:Children,Event,Family,Free,Fun,Kids,Mom and Dad,Nashotah,Preschool Open House,Things To Do,Waukesha County,WI
ATTACH;FMTTYPE=image/webp:https://eymag.com/wp-content/uploads/2026/01/14492618_1116667481759378_3783941618691328649_n-1-QCrT1J.webp
END:VEVENT
BEGIN:VEVENT
DTSTART;TZID=America/Chicago:20260330T074500
DTEND;TZID=America/Chicago:20260330T144500
DTSTAMP:20260419T094118
CREATED:20260330T225151Z
LAST-MODIFIED:20260330T225151Z
UID:12458-1774856700-1774881900@eymag.com
SUMMARY:St. Joan of Arc School Shadow Day Open House
DESCRIPTION:Bring your family to the St. Joan of Arc School Shadow Day Open House. \nHeld at the St Joan of Arc Education Center in Nashotah. \n\nChoosing the right school is one of the most important decisions you’ll make for your child. Come experience it for yourself at St. Joan of Arc Shadow Days. They are offering opportunities for both elementary and middle school students to step into a real school day: meeting teachers\, making connections\, and experiencing what makes the school community special.\n\nElementary Shadow Days: March 30 & 31\nMiddle School Shadow Day: March 30\n7:45 AM – 2:45 PM\n\n\n\nYour child will:\n• Meet teachers & students\n• Participate in real lessons\n• Explore our campus\n\n\nAt St. Joan of Arc\, your child is known and loved and this is the best way to see that in action.\n—\n\nTo learn more about preschools in the greater Waukesha County and Lake Country area\, please read LAKE COUNTRY FAMILY FUN’S LOCAL PRESCHOOL GUIDE. \n  \nTo learn more about other preschool open houses in the area\, please read LAKE COUNTRY FAMILY FUN’S PRESCHOOL OPEN HOUSE GUIDE. \n 
URL:https://eymag.com/event/st-joan-of-arc-school-shadow-day-open-house/
LOCATION:St. Joan of Arc School\, 120 Nashotah Road\, Nashotah\, WI\, United States
CATEGORIES:Children,Event,Family,Free,Fun,Kids,Mom and Dad,Nashotah,Preschool Open House,Things To Do,Waukesha County,WI
ATTACH;FMTTYPE=image/webp:https://eymag.com/wp-content/uploads/2026/01/14492618_1116667481759378_3783941618691328649_n-1-QCrT1J.webp
END:VEVENT
END:VCALENDAR